BEGIN:VCALENDAR
VERSION:2.0
PRODID:-//eventon.com NONSGML v1.0//EN
CALSCALE:GREGORIAN
METHOD:PUBLISH
BEGIN:VEVENT
UID:69e73c75d39ae
DTSTAMP:20260421T085933Z
DTSTART:20200902T090000Z
DTEND:20200902T100000Z
LOCATION:https://twitch.tv/lazy_the_maze_moe
SUMMARY:Wednesday Radio Show
DESCRIPTION:Testinhalt\nhttps://martinwedgwood.com/events/lazys-radio-show-
 copy-copy/var/event_access
URL:https://martinwedgwood.com/events/lazys-radio-show-copy-copy/var/event_access
END:VEVENT
END:VCALENDAR