BEGIN:VCALENDAR
VERSION:2.0
PRODID:-//eventon.com NONSGML v1.0//EN
CALSCALE:GREGORIAN
METHOD:PUBLISH
BEGIN:VEVENT
UID:69e74d7518360
DTSTAMP:20260421T101205Z
DTSTART:20200901T090000Z
DTEND:20200901T100000Z
LOCATION:https://twitch.tv/lazy_the_maze_moe
SUMMARY:Tuesday Radio Show
DESCRIPTION:Testinhalt\nhttps://martinwedgwood.com/events/lazys-radio-show-
 copy-copy-copy/var/event_access
URL:https://martinwedgwood.com/events/lazys-radio-show-copy-copy-copy/var/event_access
END:VEVENT
END:VCALENDAR